BEGIN:VCALENDAR
VERSION:2.0
PRODID:-//Kendall Square - ECPv6.15.16.1//NONSGML v1.0//EN
CALSCALE:GREGORIAN
METHOD:PUBLISH
X-WR-CALNAME:Kendall Square
X-ORIGINAL-URL:https://kendallsquare.org
X-WR-CALDESC:Events for Kendall Square
REFRESH-INTERVAL;VALUE=DURATION:PT1H
X-Robots-Tag:noindex
X-PUBLISHED-TTL:PT1H
BEGIN:VTIMEZONE
TZID:America/New_York
BEGIN:DAYLIGHT
TZOFFSETFROM:-0500
TZOFFSETTO:-0400
TZNAME:EDT
DTSTART:20250309T070000
END:DAYLIGHT
BEGIN:STANDARD
TZOFFSETFROM:-0400
TZOFFSETTO:-0500
TZNAME:EST
DTSTART:20251102T060000
END:STANDARD
BEGIN:DAYLIGHT
TZOFFSETFROM:-0500
TZOFFSETTO:-0400
TZNAME:EDT
DTSTART:20260308T070000
END:DAYLIGHT
BEGIN:STANDARD
TZOFFSETFROM:-0400
TZOFFSETTO:-0500
TZNAME:EST
DTSTART:20261101T060000
END:STANDARD
BEGIN:DAYLIGHT
TZOFFSETFROM:-0500
TZOFFSETTO:-0400
TZNAME:EDT
DTSTART:20270314T070000
END:DAYLIGHT
BEGIN:STANDARD
TZOFFSETFROM:-0400
TZOFFSETTO:-0500
TZNAME:EST
DTSTART:20271107T060000
END:STANDARD
END:VTIMEZONE
BEGIN:VEVENT
DTSTART;TZID=America/New_York:20260425T100000
DTEND;TZID=America/New_York:20260425T150000
DTSTAMP:20260425T070745
CREATED:20260421T140657Z
LAST-MODIFIED:20260421T140657Z
UID:10009953-1777111200-1777129200@kendallsquare.org
SUMMARY:Rise Up Boston: A Climate Event
DESCRIPTION:Join the Museum’s Center for the Environment for a lively day full of hands-on activities\, enlightening live presentations\, climate conversations\, and much more! Meet with some of the people who are making a difference addressing climate change at tables throughout the Museum\, and talk with Museum educators. This all-day event is all about informing\, empowering\, and inspiring action. And it’s just the beginning\, as we all work together to make a difference!
URL:https://kendallsquare.org/event/rise-up-boston-a-climate-event/
LOCATION:Museum of Science\, 1 Science Park\, Boston\, MA\, 02114\, United States
CATEGORIES:Culture,Learning
ATTACH;FMTTYPE=image/png:https://kendallsquare.org/wp-content/uploads/Untitled.png
ORGANIZER;CN="Museum of Science":MAILTO:information@mos.org
END:VEVENT
BEGIN:VEVENT
DTSTART;TZID=America/New_York:20260425T140000
DTEND;TZID=America/New_York:20260425T170000
DTSTAMP:20260425T070745
CREATED:20260305T140751Z
LAST-MODIFIED:20260305T140751Z
UID:10009853-1777125600-1777136400@kendallsquare.org
SUMMARY:Wii Sports League
DESCRIPTION:Join us every Saturday in March at Lamplighter CX for Wii Sports League. \nRSVP HERE \n\n\nDo you have what it takes to be the Champion? We’ll be competing in rotating Wii Sports every Saturday in March. \n\n\n\n\nCome experience the high-stakes athleticism that it takes to be the Wii Sports Champion of East Cambridge! Will it be you? \nThe competition is first-come\, first-served\, and the sport will rotate every week\, starting with Wii Bowling on March 7th! \nYou’re also welcome to come as a spectator! \nAll space and seating is first come first serve\, and an RSVP here does not guarantee entry. \nPlease note that this event is 21+ and all guests must show a valid government-issued ID upon entry to our taproom. Questions? Get in touch: events@lamplighterbrewing.com.
URL:https://kendallsquare.org/event/wii-sports-league/2026-04-25/
LOCATION:Lamplighter
CATEGORIES:Culture
ATTACH;FMTTYPE=image/png:https://kendallsquare.org/wp-content/uploads/Screenshot-2026-03-05-at-9.07.15-AM.png
END:VEVENT
END:VCALENDAR